BEGIN:VCALENDAR
VERSION:2.0
PRODID:SchoolNow
CALSCALE:GREGORIAN
BEGIN:VEVENT
UID:f476dd8c-3a8e-11f1-9158-0a58a9feac02
DTSTAMP:20260420T135008Z
SUMMARY:Battle of the Brains! (Hosted by NHS)
LOCATION:Young's room
URL;VALUE=URI:https://www.aaechs.com/campuses/paradise-valley/calendar/9000
 987/battle-of-the-brains-hosted-by-nhs
DTSTART:20260424T191500Z
DTEND:20260424T204500Z
END:VEVENT
END:VCALENDAR
