BEGIN:VCALENDAR
VERSION:2.0
PRODID:SchoolNow
CALSCALE:GREGORIAN
BEGIN:VEVENT
UID:901cdca0-3760-11f1-b2dc-0a58a9feac02
DTSTAMP:20260420T135008Z
SUMMARY:Envirothon meeting
URL;VALUE=URI:https://www.aaechs.com/campuses/paradise-valley/calendar/8990
 959/envirothon-meeting
DTSTART:20260430T220000Z
DTEND:20260430T230000Z
END:VEVENT
END:VCALENDAR
