BEGIN:VCALENDAR
VERSION:2.0
PRODID:SchoolNow
CALSCALE:GREGORIAN
BEGIN:VEVENT
UID:901cdbce-3760-11f1-934b-0a58a9feac02
DTSTAMP:20260420T135008Z
SUMMARY:Envirothon meeting
URL;VALUE=URI:https://www.aaechs.com/campuses/paradise-valley/calendar/8990
 958/envirothon-meeting
DTSTART:20260423T220000Z
DTEND:20260423T230000Z
END:VEVENT
END:VCALENDAR
