BEGIN:VCALENDAR
VERSION:2.0
PRODID:SchoolNow
CALSCALE:GREGORIAN
BEGIN:VEVENT
UID:901cac08-3760-11f1-95d5-0a58a9feac02
DTSTAMP:20260420T135008Z
SUMMARY:Kiss a Senior Goodbye grams sales at lunch
URL;VALUE=URI:https://www.aaechs.com/campuses/paradise-valley/calendar/8990
 904/kiss-a-senior-goodbye-grams-sales-at-lunch
DTSTART;VALUE=DATE:20260420
DTEND;VALUE=DATE:20260507
END:VEVENT
END:VCALENDAR
