BEGIN:VCALENDAR
VERSION:2.0
PRODID:SchoolNow
CALSCALE:GREGORIAN
BEGIN:VEVENT
UID:901c8ec6-3760-11f1-999a-0a58a9feac02
DTSTAMP:20260420T135008Z
SUMMARY:Early Release
URL;VALUE=URI:https://www.aaechs.com/campuses/paradise-valley/calendar/8990
 872/early-release
DTSTART;VALUE=DATE:20260424
DTEND;VALUE=DATE:20260425
END:VEVENT
END:VCALENDAR
